BEGIN:VCALENDAR
VERSION:2.0
PRODID:-//Audubon Christian Fellowship - ECPv6.15.20//NONSGML v1.0//EN
CALSCALE:GREGORIAN
METHOD:PUBLISH
X-WR-CALNAME:Audubon Christian Fellowship
X-ORIGINAL-URL:https://acf-church.org
X-WR-CALDESC:Events for Audubon Christian Fellowship
REFRESH-INTERVAL;VALUE=DURATION:PT1H
X-Robots-Tag:noindex
X-PUBLISHED-TTL:PT1H
BEGIN:VTIMEZONE
TZID:UTC
BEGIN:STANDARD
TZOFFSETFROM:+0000
TZOFFSETTO:+0000
TZNAME:UTC
DTSTART:20220101T000000
END:STANDARD
END:VTIMEZONE
BEGIN:VEVENT
DTSTART;TZID=UTC:20230910T090000
DTEND;TZID=UTC:20230910T130000
DTSTAMP:20260419T235912
CREATED:20230905T115234Z
LAST-MODIFIED:20230911T124030Z
UID:1699-1694336400-1694350800@acf-church.org
SUMMARY:主日崇拜
DESCRIPTION:
URL:https://acf-church.org/event/sermon20230910/
LOCATION:ACF Church\, 3430 Ridge Pike\, Eagleville\, PA\, 19408\, United States
CATEGORIES:主日崇拜
ORGANIZER;CN="Wenquan Wang":MAILTO:acf@acf-church.org
END:VEVENT
BEGIN:VEVENT
DTSTART;TZID=UTC:20230903T090000
DTEND;TZID=UTC:20230903T130000
DTSTAMP:20260419T235912
CREATED:20230905T115128Z
LAST-MODIFIED:20230905T115835Z
UID:1697-1693731600-1693746000@acf-church.org
SUMMARY:主日崇拜
DESCRIPTION:
URL:https://acf-church.org/event/sermon20230903/
LOCATION:ACF Church\, 3430 Ridge Pike\, Eagleville\, PA\, 19408\, United States
CATEGORIES:主日崇拜
ORGANIZER;CN="Wenquan Wang":MAILTO:acf@acf-church.org
END:VEVENT
BEGIN:VEVENT
DTSTART;TZID=UTC:20230827T090000
DTEND;TZID=UTC:20230827T090000
DTSTAMP:20260419T235912
CREATED:20230628T182912Z
LAST-MODIFIED:20230905T120211Z
UID:1097-1693126800-1693126800@acf-church.org
SUMMARY:主日崇拜
DESCRIPTION:
URL:https://acf-church.org/event/sermon20230827/
LOCATION:ACF Church\, 3430 Ridge Pike\, Eagleville\, PA\, 19408\, United States
CATEGORIES:主日崇拜
ORGANIZER;CN="Wenquan Wang":MAILTO:acf@acf-church.org
END:VEVENT
BEGIN:VEVENT
DTSTART;TZID=UTC:20230820T090000
DTEND;TZID=UTC:20230820T130000
DTSTAMP:20260419T235912
CREATED:20230807T163836Z
LAST-MODIFIED:20230905T120414Z
UID:1552-1692522000-1692536400@acf-church.org
SUMMARY:主日崇拜
DESCRIPTION:
URL:https://acf-church.org/event/sermon20230820/
LOCATION:ACF Church\, 3430 Ridge Pike\, Eagleville\, PA\, 19408\, United States
CATEGORIES:主日崇拜
ORGANIZER;CN="Wenquan Wang":MAILTO:acf@acf-church.org
END:VEVENT
BEGIN:VEVENT
DTSTART;TZID=UTC:20230813T090000
DTEND;TZID=UTC:20230813T130000
DTSTAMP:20260419T235912
CREATED:20230807T163727Z
LAST-MODIFIED:20230905T120456Z
UID:1550-1691917200-1691931600@acf-church.org
SUMMARY:主日崇拜
DESCRIPTION:
URL:https://acf-church.org/event/sermon20230813/
LOCATION:ACF Church\, 3430 Ridge Pike\, Eagleville\, PA\, 19408\, United States
CATEGORIES:主日崇拜
ORGANIZER;CN="Wenquan Wang":MAILTO:acf@acf-church.org
END:VEVENT
BEGIN:VEVENT
DTSTART;TZID=UTC:20230806T090000
DTEND;TZID=UTC:20230806T130000
DTSTAMP:20260419T235912
CREATED:20230628T184232Z
LAST-MODIFIED:20230807T174430Z
UID:1109-1691312400-1691326800@acf-church.org
SUMMARY:主日崇拜
DESCRIPTION:
URL:https://acf-church.org/event/sermon20230806/
LOCATION:ACF Church\, 3430 Ridge Pike\, Eagleville\, PA\, 19408\, United States
CATEGORIES:主日崇拜
ORGANIZER;CN="Wenquan Wang":MAILTO:acf@acf-church.org
END:VEVENT
BEGIN:VEVENT
DTSTART;TZID=UTC:20230805T100000
DTEND;TZID=UTC:20230805T180000
DTSTAMP:20260419T235912
CREATED:20230717T220201Z
LAST-MODIFIED:20240706T190918Z
UID:1317-1691229600-1691258400@acf-church.org
SUMMARY:新泽西海滩聚会
DESCRIPTION:新泽西海滩聚会 \n地址： Island Beach State Park\, 2401 Central Ave\, Seaside Park\, New Jersey 08752 \n 
URL:https://acf-church.org/event/islandbeach2023/
LOCATION:Island Beach State Park\, 2401 Central Ave\, Seaside Park\, NJ\, 08752\, United States
CATEGORIES:教会活动
ORGANIZER;CN="Wenquan Wang":MAILTO:acf@acf-church.org
END:VEVENT
BEGIN:VEVENT
DTSTART;TZID=UTC:20230730T090000
DTEND;TZID=UTC:20230730T130000
DTSTAMP:20260419T235912
CREATED:20230628T184035Z
LAST-MODIFIED:20230807T173029Z
UID:1104-1690707600-1690722000@acf-church.org
SUMMARY:主日崇拜
DESCRIPTION:
URL:https://acf-church.org/event/sermon20230730/
LOCATION:ACF Church\, 3430 Ridge Pike\, Eagleville\, PA\, 19408\, United States
CATEGORIES:主日崇拜
ORGANIZER;CN="Wenquan Wang":MAILTO:acf@acf-church.org
END:VEVENT
BEGIN:VEVENT
DTSTART;TZID=UTC:20230723T090000
DTEND;TZID=UTC:20230723T130000
DTSTAMP:20260419T235912
CREATED:20230628T184146Z
LAST-MODIFIED:20230807T172845Z
UID:1107-1690102800-1690117200@acf-church.org
SUMMARY:主日崇拜
DESCRIPTION:
URL:https://acf-church.org/event/sermon20230723/
LOCATION:ACF Church\, 3430 Ridge Pike\, Eagleville\, PA\, 19408\, United States
CATEGORIES:主日崇拜
ORGANIZER;CN="Wenquan Wang":MAILTO:acf@acf-church.org
END:VEVENT
BEGIN:VEVENT
DTSTART;TZID=UTC:20230716T090000
DTEND;TZID=UTC:20230716T130000
DTSTAMP:20260419T235912
CREATED:20230628T183739Z
LAST-MODIFIED:20230807T172914Z
UID:1101-1689498000-1689512400@acf-church.org
SUMMARY:主日崇拜
DESCRIPTION:
URL:https://acf-church.org/event/sermon20230716/
LOCATION:ACF Church\, 3430 Ridge Pike\, Eagleville\, PA\, 19408\, United States
CATEGORIES:主日崇拜
ORGANIZER;CN="Wenquan Wang":MAILTO:acf@acf-church.org
END:VEVENT
BEGIN:VEVENT
DTSTART;TZID=UTC:20230709T090000
DTEND;TZID=UTC:20230709T130000
DTSTAMP:20260419T235912
CREATED:20230628T183412Z
LAST-MODIFIED:20230807T172748Z
UID:1099-1688893200-1688907600@acf-church.org
SUMMARY:主日崇拜
DESCRIPTION:
URL:https://acf-church.org/event/sermon20230709/
LOCATION:ACF Church\, 3430 Ridge Pike\, Eagleville\, PA\, 19408\, United States
CATEGORIES:主日崇拜
ORGANIZER;CN="Wenquan Wang":MAILTO:acf@acf-church.org
END:VEVENT
BEGIN:VEVENT
DTSTART;TZID=UTC:20230702T090000
DTEND;TZID=UTC:20230702T130000
DTSTAMP:20260419T235912
CREATED:20230506T204926Z
LAST-MODIFIED:20230807T172702Z
UID:471-1688288400-1688302800@acf-church.org
SUMMARY:主日崇拜
DESCRIPTION:
URL:https://acf-church.org/event/sermon20230702/
LOCATION:ACF Church\, 3430 Ridge Pike\, Eagleville\, PA\, 19408\, United States
CATEGORIES:主日崇拜
ORGANIZER;CN="Wenquan Wang":MAILTO:acf@acf-church.org
END:VEVENT
BEGIN:VEVENT
DTSTART;TZID=UTC:20230701T110000
DTEND;TZID=UTC:20230701T150000
DTSTAMP:20260419T235912
CREATED:20230628T185306Z
LAST-MODIFIED:20240706T190428Z
UID:1111-1688209200-1688223600@acf-church.org
SUMMARY:公园野餐
DESCRIPTION:Upper Schuylkill Valley Park\n1615 Black Rock Rd\, Royersford\, PA 19468
URL:https://acf-church.org/event/parkpicnic2023/
LOCATION:Upper Schuylkill Valley Park\, 1615 Black Rock Rd\, Royersford\, PA\, 19468
CATEGORIES:教会活动
ORGANIZER;CN="Wenquan Wang":MAILTO:acf@acf-church.org
END:VEVENT
BEGIN:VEVENT
DTSTART;TZID=UTC:20230625T090000
DTEND;TZID=UTC:20230625T130000
DTSTAMP:20260419T235912
CREATED:20230703T164416Z
LAST-MODIFIED:20230703T171423Z
UID:1203-1687683600-1687698000@acf-church.org
SUMMARY:主日崇拜
DESCRIPTION:
URL:https://acf-church.org/event/sermon20230625/
LOCATION:ACF Church\, 3430 Ridge Pike\, Eagleville\, PA\, 19408\, United States
CATEGORIES:主日崇拜
ORGANIZER;CN="Wenquan Wang":MAILTO:acf@acf-church.org
END:VEVENT
BEGIN:VEVENT
DTSTART;TZID=UTC:20230618T090000
DTEND;TZID=UTC:20230618T130000
DTSTAMP:20260419T235912
CREATED:20230703T172120Z
LAST-MODIFIED:20230703T172120Z
UID:1206-1687078800-1687093200@acf-church.org
SUMMARY:主日崇拜
DESCRIPTION:
URL:https://acf-church.org/event/sermon20230618/
LOCATION:ACF Church\, 3430 Ridge Pike\, Eagleville\, PA\, 19408\, United States
CATEGORIES:主日崇拜
ORGANIZER;CN="Wenquan Wang":MAILTO:acf@acf-church.org
END:VEVENT
BEGIN:VEVENT
DTSTART;TZID=UTC:20230611T090000
DTEND;TZID=UTC:20230611T130000
DTSTAMP:20260419T235912
CREATED:20230703T172329Z
LAST-MODIFIED:20230703T172329Z
UID:1208-1686474000-1686488400@acf-church.org
SUMMARY:主日崇拜
DESCRIPTION:
URL:https://acf-church.org/event/sermon20230611/
LOCATION:ACF Church\, 3430 Ridge Pike\, Eagleville\, PA\, 19408\, United States
CATEGORIES:主日崇拜
ORGANIZER;CN="Wenquan Wang":MAILTO:acf@acf-church.org
END:VEVENT
BEGIN:VEVENT
DTSTART;TZID=UTC:20230604T090000
DTEND;TZID=UTC:20230604T130000
DTSTAMP:20260419T235912
CREATED:20230807T164738Z
LAST-MODIFIED:20230807T164741Z
UID:1560-1685869200-1685883600@acf-church.org
SUMMARY:主日崇拜
DESCRIPTION:
URL:https://acf-church.org/event/sermon20230604/
LOCATION:ACF Church\, 3430 Ridge Pike\, Eagleville\, PA\, 19408\, United States
CATEGORIES:主日崇拜
ORGANIZER;CN="Wenquan Wang":MAILTO:acf@acf-church.org
END:VEVENT
BEGIN:VEVENT
DTSTART;TZID=UTC:20230528T090000
DTEND;TZID=UTC:20230528T130000
DTSTAMP:20260419T235912
CREATED:20230807T164537Z
LAST-MODIFIED:20230807T164600Z
UID:1558-1685264400-1685278800@acf-church.org
SUMMARY:主日崇拜
DESCRIPTION:
URL:https://acf-church.org/event/sermon20230528/
LOCATION:ACF Church\, 3430 Ridge Pike\, Eagleville\, PA\, 19408\, United States
CATEGORIES:主日崇拜
ORGANIZER;CN="Wenquan Wang":MAILTO:acf@acf-church.org
END:VEVENT
BEGIN:VEVENT
DTSTART;TZID=UTC:20230521T090000
DTEND;TZID=UTC:20230521T130000
DTSTAMP:20260419T235912
CREATED:20230807T164402Z
LAST-MODIFIED:20230807T164423Z
UID:1556-1684659600-1684674000@acf-church.org
SUMMARY:主日崇拜
DESCRIPTION:
URL:https://acf-church.org/event/sermon20230521/
LOCATION:ACF Church\, 3430 Ridge Pike\, Eagleville\, PA\, 19408\, United States
CATEGORIES:主日崇拜
ORGANIZER;CN="Wenquan Wang":MAILTO:acf@acf-church.org
END:VEVENT
BEGIN:VEVENT
DTSTART;TZID=UTC:20230514T090000
DTEND;TZID=UTC:20230514T130000
DTSTAMP:20260419T235912
CREATED:20230807T164206Z
LAST-MODIFIED:20230807T164213Z
UID:1554-1684054800-1684069200@acf-church.org
SUMMARY:主日崇拜
DESCRIPTION:
URL:https://acf-church.org/event/sermon20230514/
LOCATION:ACF Church\, 3430 Ridge Pike\, Eagleville\, PA\, 19408\, United States
CATEGORIES:主日崇拜
ORGANIZER;CN="Wenquan Wang":MAILTO:acf@acf-church.org
END:VEVENT
BEGIN:VEVENT
DTSTART;TZID=UTC:20230507T090000
DTEND;TZID=UTC:20230507T130000
DTSTAMP:20260419T235912
CREATED:20230807T163629Z
LAST-MODIFIED:20230807T165211Z
UID:1548-1683450000-1683464400@acf-church.org
SUMMARY:主日崇拜
DESCRIPTION:
URL:https://acf-church.org/event/sermon20230507/
LOCATION:ACF Church\, 3430 Ridge Pike\, Eagleville\, PA\, 19408\, United States
CATEGORIES:主日崇拜
ORGANIZER;CN="Wenquan Wang":MAILTO:acf@acf-church.org
END:VEVENT
BEGIN:VEVENT
DTSTART;TZID=UTC:20230430T090000
DTEND;TZID=UTC:20230430T130000
DTSTAMP:20260419T235912
CREATED:20230807T171852Z
LAST-MODIFIED:20230807T171852Z
UID:1566-1682845200-1682859600@acf-church.org
SUMMARY:主日崇拜
DESCRIPTION:
URL:https://acf-church.org/event/sermon20230430/
LOCATION:ACF Church\, 3430 Ridge Pike\, Eagleville\, PA\, 19408\, United States
CATEGORIES:主日崇拜
ORGANIZER;CN="Wenquan Wang":MAILTO:acf@acf-church.org
END:VEVENT
BEGIN:VEVENT
DTSTART;TZID=UTC:20230423T090000
DTEND;TZID=UTC:20230423T130000
DTSTAMP:20260419T235912
CREATED:20230807T171658Z
LAST-MODIFIED:20230807T171658Z
UID:1564-1682240400-1682254800@acf-church.org
SUMMARY:主日崇拜
DESCRIPTION:
URL:https://acf-church.org/event/sermon20230423/
LOCATION:ACF Church\, 3430 Ridge Pike\, Eagleville\, PA\, 19408\, United States
CATEGORIES:主日崇拜
ORGANIZER;CN="Wenquan Wang":MAILTO:acf@acf-church.org
END:VEVENT
BEGIN:VEVENT
DTSTART;TZID=UTC:20230416T090000
DTEND;TZID=UTC:20230416T130000
DTSTAMP:20260419T235912
CREATED:20230807T171434Z
LAST-MODIFIED:20230807T171434Z
UID:1562-1681635600-1681650000@acf-church.org
SUMMARY:主日崇拜
DESCRIPTION:
URL:https://acf-church.org/event/sermon20230416/
LOCATION:ACF Church\, 3430 Ridge Pike\, Eagleville\, PA\, 19408\, United States
CATEGORIES:主日崇拜
ORGANIZER;CN="Wenquan Wang":MAILTO:acf@acf-church.org
END:VEVENT
BEGIN:VEVENT
DTSTART;TZID=UTC:20230409T090000
DTEND;TZID=UTC:20230409T130000
DTSTAMP:20260419T235912
CREATED:20230807T163317Z
LAST-MODIFIED:20230807T165128Z
UID:1546-1681030800-1681045200@acf-church.org
SUMMARY:主日崇拜
DESCRIPTION:
URL:https://acf-church.org/event/sermon20230409/
LOCATION:ACF Church\, 3430 Ridge Pike\, Eagleville\, PA\, 19408\, United States
CATEGORIES:主日崇拜
ORGANIZER;CN="Wenquan Wang":MAILTO:acf@acf-church.org
END:VEVENT
BEGIN:VEVENT
DTSTART;TZID=UTC:20230402T090000
DTEND;TZID=UTC:20230402T130000
DTSTAMP:20260419T235912
CREATED:20230807T163201Z
LAST-MODIFIED:20230807T165030Z
UID:1544-1680426000-1680440400@acf-church.org
SUMMARY:主日崇拜
DESCRIPTION:
URL:https://acf-church.org/event/sermon20230402/
LOCATION:ACF Church\, 3430 Ridge Pike\, Eagleville\, PA\, 19408\, United States
CATEGORIES:主日崇拜
ORGANIZER;CN="Wenquan Wang":MAILTO:acf@acf-church.org
END:VEVENT
BEGIN:VEVENT
DTSTART;TZID=UTC:20230326T090000
DTEND;TZID=UTC:20230326T130000
DTSTAMP:20260419T235912
CREATED:20230807T162121Z
LAST-MODIFIED:20230807T164919Z
UID:1542-1679821200-1679835600@acf-church.org
SUMMARY:主日崇拜
DESCRIPTION:
URL:https://acf-church.org/event/sermon20230326/
LOCATION:ACF Church\, 3430 Ridge Pike\, Eagleville\, PA\, 19408\, United States
CATEGORIES:主日崇拜
ORGANIZER;CN="Wenquan Wang":MAILTO:acf@acf-church.org
END:VEVENT
END:VCALENDAR