BEGIN:VCALENDAR
VERSION:2.0
PRODID:-//Audubon Christian Fellowship - ECPv6.15.20//NONSGML v1.0//EN
CALSCALE:GREGORIAN
METHOD:PUBLISH
X-ORIGINAL-URL:https://acf-church.org
X-WR-CALDESC:Events for Audubon Christian Fellowship
REFRESH-INTERVAL;VALUE=DURATION:PT1H
X-Robots-Tag:noindex
X-PUBLISHED-TTL:PT1H
BEGIN:VTIMEZONE
TZID:UTC
BEGIN:STANDARD
TZOFFSETFROM:+0000
TZOFFSETTO:+0000
TZNAME:UTC
DTSTART:20230101T000000
END:STANDARD
END:VTIMEZONE
BEGIN:VEVENT
DTSTART;TZID=UTC:20240804T090000
DTEND;TZID=UTC:20240804T113000
DTSTAMP:20260419T152049
CREATED:20240706T185222Z
LAST-MODIFIED:20240828T141208Z
UID:5089-1722762000-1722771000@acf-church.org
SUMMARY:主日崇拜
DESCRIPTION:
URL:https://acf-church.org/event/sermon20240804/
LOCATION:ACF Church\, 3430 Ridge Pike\, Eagleville\, PA\, 19408\, United States
CATEGORIES:主日崇拜
ORGANIZER;CN="Wenquan Wang":MAILTO:acf@acf-church.org
END:VEVENT
BEGIN:VEVENT
DTSTART;TZID=UTC:20240803T100000
DTEND;TZID=UTC:20240803T190000
DTSTAMP:20260419T152049
CREATED:20240706T191924Z
LAST-MODIFIED:20240706T191924Z
UID:5111-1722679200-1722711600@acf-church.org
SUMMARY:新泽西海滩聚会
DESCRIPTION:新泽西海滩聚会 \n地址： Island Beach State Park\, 2401 Central Ave\, Seaside Park\, New Jersey 08752 \n海滩活动之后晚上到Fortune Buffet聚餐 \n1311 NJ-37\, Toms River\, NJ 08755
URL:https://acf-church.org/event/islandbeach2024/
LOCATION:Island Beach State Park\, 2401 Central Ave\, Seaside Park\, NJ\, 08752\, United States
CATEGORIES:教会活动
ORGANIZER;CN="Wenquan Wang":MAILTO:acf@acf-church.org
END:VEVENT
BEGIN:VEVENT
DTSTART;TZID=UTC:20240728T090000
DTEND;TZID=UTC:20240728T113000
DTSTAMP:20260419T152049
CREATED:20240706T185055Z
LAST-MODIFIED:20240828T141245Z
UID:5087-1722157200-1722166200@acf-church.org
SUMMARY:主日崇拜
DESCRIPTION:
URL:https://acf-church.org/event/sermon20240728/
LOCATION:ACF Church\, 3430 Ridge Pike\, Eagleville\, PA\, 19408\, United States
CATEGORIES:主日崇拜
ORGANIZER;CN="Wenquan Wang":MAILTO:acf@acf-church.org
END:VEVENT
BEGIN:VEVENT
DTSTART;TZID=UTC:20240721T090000
DTEND;TZID=UTC:20240721T113000
DTSTAMP:20260419T152049
CREATED:20240706T184947Z
LAST-MODIFIED:20240828T141307Z
UID:5085-1721552400-1721561400@acf-church.org
SUMMARY:主日崇拜
DESCRIPTION:
URL:https://acf-church.org/event/sermon20240721/
LOCATION:ACF Church\, 3430 Ridge Pike\, Eagleville\, PA\, 19408\, United States
CATEGORIES:主日崇拜
ORGANIZER;CN="Wenquan Wang":MAILTO:acf@acf-church.org
END:VEVENT
BEGIN:VEVENT
DTSTART;TZID=UTC:20240714T090000
DTEND;TZID=UTC:20240714T113000
DTSTAMP:20260419T152049
CREATED:20240706T184911Z
LAST-MODIFIED:20240828T141327Z
UID:5083-1720947600-1720956600@acf-church.org
SUMMARY:主日崇拜
DESCRIPTION:
URL:https://acf-church.org/event/sermon20240714/
LOCATION:ACF Church\, 3430 Ridge Pike\, Eagleville\, PA\, 19408\, United States
CATEGORIES:主日崇拜
ORGANIZER;CN="Wenquan Wang":MAILTO:acf@acf-church.org
END:VEVENT
BEGIN:VEVENT
DTSTART;TZID=UTC:20240707T090000
DTEND;TZID=UTC:20240708T113000
DTSTAMP:20260419T152049
CREATED:20240706T184804Z
LAST-MODIFIED:20240828T141342Z
UID:5081-1720342800-1720438200@acf-church.org
SUMMARY:主日崇拜
DESCRIPTION:
URL:https://acf-church.org/event/sermon20240707/
LOCATION:ACF Church\, 3430 Ridge Pike\, Eagleville\, PA\, 19408\, United States
CATEGORIES:主日崇拜
ORGANIZER;CN="Wenquan Wang":MAILTO:acf@acf-church.org
END:VEVENT
BEGIN:VEVENT
DTSTART;TZID=UTC:20240704T110000
DTEND;TZID=UTC:20240704T160000
DTSTAMP:20260419T152049
CREATED:20240706T190004Z
LAST-MODIFIED:20240706T190654Z
UID:5099-1720090800-1720108800@acf-church.org
SUMMARY:公园野餐
DESCRIPTION:Upper Schuylkill Valley Park\n1615 Black Rock Rd\, Royersford\, PA 19468
URL:https://acf-church.org/event/parkpicnic2024/
LOCATION:Upper Schuylkill Valley Park\, 1615 Black Rock Rd\, Royersford\, PA\, 19468
CATEGORIES:教会活动
ORGANIZER;CN="Wenquan Wang":MAILTO:acf@acf-church.org
END:VEVENT
BEGIN:VEVENT
DTSTART;TZID=UTC:20240630T090000
DTEND;TZID=UTC:20240630T113000
DTSTAMP:20260419T152049
CREATED:20240511T182655Z
LAST-MODIFIED:20240828T142140Z
UID:4667-1719738000-1719747000@acf-church.org
SUMMARY:主日崇拜
DESCRIPTION:
URL:https://acf-church.org/event/sermon20240630/
LOCATION:ACF Church\, 3430 Ridge Pike\, Eagleville\, PA\, 19408\, United States
CATEGORIES:主日崇拜
ORGANIZER;CN="Wenquan Wang":MAILTO:acf@acf-church.org
END:VEVENT
BEGIN:VEVENT
DTSTART;TZID=UTC:20240623T090000
DTEND;TZID=UTC:20240623T113000
DTSTAMP:20260419T152049
CREATED:20240511T182604Z
LAST-MODIFIED:20240828T142126Z
UID:4665-1719133200-1719142200@acf-church.org
SUMMARY:主日崇拜
DESCRIPTION:
URL:https://acf-church.org/event/sermon20240623/
LOCATION:ACF Church\, 3430 Ridge Pike\, Eagleville\, PA\, 19408\, United States
CATEGORIES:主日崇拜
ORGANIZER;CN="Wenquan Wang":MAILTO:acf@acf-church.org
END:VEVENT
BEGIN:VEVENT
DTSTART;TZID=UTC:20240616T090000
DTEND;TZID=UTC:20240616T113000
DTSTAMP:20260419T152049
CREATED:20240511T182453Z
LAST-MODIFIED:20240828T142110Z
UID:4663-1718528400-1718537400@acf-church.org
SUMMARY:主日崇拜
DESCRIPTION:
URL:https://acf-church.org/event/sermon20240616/
LOCATION:ACF Church\, 3430 Ridge Pike\, Eagleville\, PA\, 19408\, United States
CATEGORIES:主日崇拜
ORGANIZER;CN="Wenquan Wang":MAILTO:acf@acf-church.org
END:VEVENT
BEGIN:VEVENT
DTSTART;TZID=UTC:20240609T090000
DTEND;TZID=UTC:20240609T113000
DTSTAMP:20260419T152049
CREATED:20240511T182344Z
LAST-MODIFIED:20240828T142053Z
UID:4661-1717923600-1717932600@acf-church.org
SUMMARY:主日崇拜
DESCRIPTION:
URL:https://acf-church.org/event/sermon20240609/
LOCATION:ACF Church\, 3430 Ridge Pike\, Eagleville\, PA\, 19408\, United States
CATEGORIES:主日崇拜
ORGANIZER;CN="Wenquan Wang":MAILTO:acf@acf-church.org
END:VEVENT
BEGIN:VEVENT
DTSTART;TZID=UTC:20240602T090000
DTEND;TZID=UTC:20240602T113000
DTSTAMP:20260419T152049
CREATED:20240511T182006Z
LAST-MODIFIED:20240828T142037Z
UID:4659-1717318800-1717327800@acf-church.org
SUMMARY:主日崇拜
DESCRIPTION:
URL:https://acf-church.org/event/sermon20240602/
LOCATION:ACF Church\, 3430 Ridge Pike\, Eagleville\, PA\, 19408\, United States
CATEGORIES:主日崇拜
ORGANIZER;CN="Wenquan Wang":MAILTO:acf@acf-church.org
END:VEVENT
BEGIN:VEVENT
DTSTART;TZID=UTC:20240526T090000
DTEND;TZID=UTC:20240526T113000
DTSTAMP:20260419T152049
CREATED:20240401T192808Z
LAST-MODIFIED:20240828T141933Z
UID:3541-1716714000-1716723000@acf-church.org
SUMMARY:主日崇拜
DESCRIPTION:
URL:https://acf-church.org/event/sermon20240526/
LOCATION:ACF Church\, 3430 Ridge Pike\, Eagleville\, PA\, 19408\, United States
CATEGORIES:主日崇拜
ORGANIZER;CN="Wenquan Wang":MAILTO:acf@acf-church.org
END:VEVENT
BEGIN:VEVENT
DTSTART;TZID=UTC:20240519T090000
DTEND;TZID=UTC:20240519T113000
DTSTAMP:20260419T152049
CREATED:20240401T192723Z
LAST-MODIFIED:20240828T141917Z
UID:3539-1716109200-1716118200@acf-church.org
SUMMARY:主日崇拜
DESCRIPTION:
URL:https://acf-church.org/event/sermon20240519/
LOCATION:ACF Church\, 3430 Ridge Pike\, Eagleville\, PA\, 19408\, United States
CATEGORIES:主日崇拜
ORGANIZER;CN="Wenquan Wang":MAILTO:acf@acf-church.org
END:VEVENT
BEGIN:VEVENT
DTSTART;TZID=UTC:20240512T090000
DTEND;TZID=UTC:20240512T113000
DTSTAMP:20260419T152049
CREATED:20240401T192552Z
LAST-MODIFIED:20240828T141904Z
UID:3537-1715504400-1715513400@acf-church.org
SUMMARY:主日崇拜
DESCRIPTION:
URL:https://acf-church.org/event/sermon20240512/
LOCATION:ACF Church\, 3430 Ridge Pike\, Eagleville\, PA\, 19408\, United States
CATEGORIES:主日崇拜
ORGANIZER;CN="Wenquan Wang":MAILTO:acf@acf-church.org
END:VEVENT
BEGIN:VEVENT
DTSTART;TZID=UTC:20240505T090000
DTEND;TZID=UTC:20240505T113000
DTSTAMP:20260419T152049
CREATED:20240401T192428Z
LAST-MODIFIED:20240828T141850Z
UID:3535-1714899600-1714908600@acf-church.org
SUMMARY:主日崇拜
DESCRIPTION:
URL:https://acf-church.org/event/sermon20240505/
LOCATION:ACF Church\, 3430 Ridge Pike\, Eagleville\, PA\, 19408\, United States
CATEGORIES:主日崇拜
ORGANIZER;CN="Wenquan Wang":MAILTO:acf@acf-church.org
END:VEVENT
BEGIN:VEVENT
DTSTART;TZID=UTC:20240428T090000
DTEND;TZID=UTC:20240428T113000
DTSTAMP:20260419T152049
CREATED:20240401T192338Z
LAST-MODIFIED:20240828T141836Z
UID:3533-1714294800-1714303800@acf-church.org
SUMMARY:主日崇拜
DESCRIPTION:
URL:https://acf-church.org/event/sermon20240428/
LOCATION:ACF Church\, 3430 Ridge Pike\, Eagleville\, PA\, 19408\, United States
CATEGORIES:主日崇拜
ORGANIZER;CN="Wenquan Wang":MAILTO:acf@acf-church.org
END:VEVENT
BEGIN:VEVENT
DTSTART;TZID=UTC:20240421T090000
DTEND;TZID=UTC:20240421T113000
DTSTAMP:20260419T152049
CREATED:20240401T192255Z
LAST-MODIFIED:20240828T141823Z
UID:3531-1713690000-1713699000@acf-church.org
SUMMARY:主日崇拜
DESCRIPTION:
URL:https://acf-church.org/event/sermon20240421/
LOCATION:ACF Church\, 3430 Ridge Pike\, Eagleville\, PA\, 19408\, United States
CATEGORIES:主日崇拜
ORGANIZER;CN="Wenquan Wang":MAILTO:acf@acf-church.org
END:VEVENT
BEGIN:VEVENT
DTSTART;TZID=UTC:20240414T090000
DTEND;TZID=UTC:20240414T113000
DTSTAMP:20260419T152049
CREATED:20240401T192202Z
LAST-MODIFIED:20240828T141808Z
UID:3529-1713085200-1713094200@acf-church.org
SUMMARY:主日崇拜
DESCRIPTION:
URL:https://acf-church.org/event/sermon20240414/
LOCATION:ACF Church\, 3430 Ridge Pike\, Eagleville\, PA\, 19408\, United States
CATEGORIES:主日崇拜
ORGANIZER;CN="Wenquan Wang":MAILTO:acf@acf-church.org
END:VEVENT
BEGIN:VEVENT
DTSTART;TZID=UTC:20240407T090000
DTEND;TZID=UTC:20240407T113000
DTSTAMP:20260419T152049
CREATED:20240401T192042Z
LAST-MODIFIED:20240828T141749Z
UID:3527-1712480400-1712489400@acf-church.org
SUMMARY:主日崇拜
DESCRIPTION:
URL:https://acf-church.org/event/sermon20240407/
LOCATION:ACF Church\, 3430 Ridge Pike\, Eagleville\, PA\, 19408\, United States
CATEGORIES:主日崇拜
ORGANIZER;CN="Wenquan Wang":MAILTO:acf@acf-church.org
END:VEVENT
BEGIN:VEVENT
DTSTART;TZID=UTC:20240331T090000
DTEND;TZID=UTC:20240331T112000
DTSTAMP:20260419T152049
CREATED:20240213T215425Z
LAST-MODIFIED:20240401T191843Z
UID:3413-1711875600-1711884000@acf-church.org
SUMMARY:主日崇拜
DESCRIPTION:
URL:https://acf-church.org/event/sermon20240331/
LOCATION:PA
CATEGORIES:主日崇拜
END:VEVENT
BEGIN:VEVENT
DTSTART;TZID=UTC:20240324T090000
DTEND;TZID=UTC:20240324T112000
DTSTAMP:20260419T152049
CREATED:20240213T215339Z
LAST-MODIFIED:20240828T141617Z
UID:3411-1711270800-1711279200@acf-church.org
SUMMARY:主日崇拜
DESCRIPTION:
URL:https://acf-church.org/event/sermon20240324/
LOCATION:PA
CATEGORIES:主日崇拜
END:VEVENT
BEGIN:VEVENT
DTSTART;TZID=UTC:20240317T090000
DTEND;TZID=UTC:20240317T112000
DTSTAMP:20260419T152049
CREATED:20240213T215234Z
LAST-MODIFIED:20240319T115357Z
UID:3409-1710666000-1710674400@acf-church.org
SUMMARY:主日崇拜
DESCRIPTION:
URL:https://acf-church.org/event/sermon20240317/
LOCATION:PA
CATEGORIES:主日崇拜
END:VEVENT
BEGIN:VEVENT
DTSTART;TZID=UTC:20240310T090000
DTEND;TZID=UTC:20240310T112000
DTSTAMP:20260419T152049
CREATED:20240213T215117Z
LAST-MODIFIED:20240311T153559Z
UID:3407-1710061200-1710069600@acf-church.org
SUMMARY:主日崇拜
DESCRIPTION:
URL:https://acf-church.org/event/sermon20240310/
LOCATION:PA
CATEGORIES:主日崇拜
END:VEVENT
BEGIN:VEVENT
DTSTART;TZID=UTC:20240303T090000
DTEND;TZID=UTC:20240303T112000
DTSTAMP:20260419T152049
CREATED:20240213T215005Z
LAST-MODIFIED:20240308T154741Z
UID:3405-1709456400-1709464800@acf-church.org
SUMMARY:主日崇拜
DESCRIPTION:
URL:https://acf-church.org/event/sermon20240303/
LOCATION:PA
CATEGORIES:主日崇拜
END:VEVENT
BEGIN:VEVENT
DTSTART;TZID=UTC:20240225T090000
DTEND;TZID=UTC:20240225T113000
DTSTAMP:20260419T152050
CREATED:20240112T205114Z
LAST-MODIFIED:20240227T154337Z
UID:3314-1708851600-1708860600@acf-church.org
SUMMARY:主日崇拜
DESCRIPTION:
URL:https://acf-church.org/event/sermon20240225/
LOCATION:PA
CATEGORIES:主日崇拜
ORGANIZER;CN="Wenquan Wang":MAILTO:acf@acf-church.org
END:VEVENT
BEGIN:VEVENT
DTSTART;TZID=UTC:20240218T090000
DTEND;TZID=UTC:20240218T113000
DTSTAMP:20260419T152050
CREATED:20240112T205008Z
LAST-MODIFIED:20240227T154448Z
UID:3312-1708246800-1708255800@acf-church.org
SUMMARY:主日崇拜
DESCRIPTION:
URL:https://acf-church.org/event/sermon20240218/
LOCATION:PA
CATEGORIES:主日崇拜
ORGANIZER;CN="Wenquan Wang":MAILTO:acf@acf-church.org
END:VEVENT
BEGIN:VEVENT
DTSTART;TZID=UTC:20240211T090000
DTEND;TZID=UTC:20240211T113000
DTSTAMP:20260419T152050
CREATED:20240112T204909Z
LAST-MODIFIED:20240213T214827Z
UID:3310-1707642000-1707651000@acf-church.org
SUMMARY:主日崇拜
DESCRIPTION:
URL:https://acf-church.org/event/sermon20240211/
LOCATION:PA
CATEGORIES:主日崇拜
ORGANIZER;CN="Wenquan Wang":MAILTO:acf@acf-church.org
END:VEVENT
BEGIN:VEVENT
DTSTART;TZID=UTC:20240204T090000
DTEND;TZID=UTC:20240204T113000
DTSTAMP:20260419T152050
CREATED:20240112T204743Z
LAST-MODIFIED:20240205T221328Z
UID:3308-1707037200-1707046200@acf-church.org
SUMMARY:主日崇拜
DESCRIPTION:
URL:https://acf-church.org/event/sermon20240204/
LOCATION:PA
CATEGORIES:主日崇拜
ORGANIZER;CN="Wenquan Wang":MAILTO:acf@acf-church.org
END:VEVENT
BEGIN:VEVENT
DTSTART;TZID=UTC:20240128T090000
DTEND;TZID=UTC:20240128T113000
DTSTAMP:20260419T152050
CREATED:20240112T204612Z
LAST-MODIFIED:20240130T002225Z
UID:3306-1706432400-1706441400@acf-church.org
SUMMARY:主日崇拜
DESCRIPTION:
URL:https://acf-church.org/event/sermon20240128/
LOCATION:PA
CATEGORIES:主日崇拜
ORGANIZER;CN="Wenquan Wang":MAILTO:acf@acf-church.org
END:VEVENT
END:VCALENDAR